BEGIN:VCALENDAR
VERSION:2.0
PRODID:-//Contratero//ES
CALSCALE:GREGORIAN
METHOD:PUBLISH
BEGIN:VEVENT
UID:PAS 8/21_1105@contratero.es
DTSTAMP:20260424T184119Z
DTSTART:20210605T235959
DTEND:20210606T005959
SUMMARY:Cierre: Servicio de Apoyo a la promoción de la actividad i
DESCRIPTION:Servicio de Apoyo a la promoción de la actividad investigadora en la Facultad de Ciencias de la Información de la Universidad Complutense de Madrid\\n\\nOrganismo: Rectorado de la Universidad Complutense de Madrid\\n\\nVer en Contratero: https://contratero.es/contracts/PAS 8/21_1105
URL:https://contratero.es/contracts/PAS 8/21_1105
STATUS:CONFIRMED
BEGIN:VALARM
TRIGGER:-P1D
ACTION:DISPLAY
DESCRIPTION:Recordatorio: Servicio de Apoyo a la promoci
END:VALARM
END:VEVENT
END:VCALENDAR